BEGIN:VCALENDAR
VERSION:2.0
PRODID:-//Investor Catalyst Hub - ECPv6.15.14//NONSGML v1.0//EN
CALSCALE:GREGORIAN
METHOD:PUBLISH
X-ORIGINAL-URL:https://stage.investorcatalysthub.org
X-WR-CALDESC:Events for Investor Catalyst Hub
REFRESH-INTERVAL;VALUE=DURATION:PT1H
X-Robots-Tag:noindex
X-PUBLISHED-TTL:PT1H
BEGIN:VTIMEZONE
TZID:America/New_York
BEGIN:DAYLIGHT
TZOFFSETFROM:-0500
TZOFFSETTO:-0400
TZNAME:EDT
DTSTART:20230312T070000
END:DAYLIGHT
BEGIN:STANDARD
TZOFFSETFROM:-0400
TZOFFSETTO:-0500
TZNAME:EST
DTSTART:20231105T060000
END:STANDARD
BEGIN:DAYLIGHT
TZOFFSETFROM:-0500
TZOFFSETTO:-0400
TZNAME:EDT
DTSTART:20240310T070000
END:DAYLIGHT
BEGIN:STANDARD
TZOFFSETFROM:-0400
TZOFFSETTO:-0500
TZNAME:EST
DTSTART:20241103T060000
END:STANDARD
BEGIN:DAYLIGHT
TZOFFSETFROM:-0500
TZOFFSETTO:-0400
TZNAME:EDT
DTSTART:20250309T070000
END:DAYLIGHT
BEGIN:STANDARD
TZOFFSETFROM:-0400
TZOFFSETTO:-0500
TZNAME:EST
DTSTART:20251102T060000
END:STANDARD
END:VTIMEZONE
BEGIN:VEVENT
DTSTART;TZID=America/New_York:20241112T080000
DTEND;TZID=America/New_York:20241114T123000
DTSTAMP:20260419T103226
CREATED:20240920T195556Z
LAST-MODIFIED:20240927T211759Z
UID:10000058-1731398400-1731587400@stage.investorcatalysthub.org
SUMMARY:7th International Conference on Microbiome Engineering
DESCRIPTION:Organized by the American Institute of Chemical Engineers (AIChE)’s Society for Biological Engineering\, in collaboration with Tufts University\, the 7th International Conference on Microbiome Engineering highlights the integration of engineering design principles with microbiome research. The conference integrates synthetic biology\, systems biology\, microbial ecology\, and bioinformatics across the environment\, manufacturing\, food\, and human health. Join your peers to discuss progress and needs in research\, technology\, and innovation. There are opportunities to showcase your research\, as well as conference grants available to students or early professionals. Society for Biological Engineering (SBE) member rates are available.
URL:https://stage.investorcatalysthub.org/event/7th-intl-conference-microbiome-engineering/
LOCATION:Tufts University Breed Memorial Hall\, 51 Winthrop Street\, Medford\, MA\, 02155\, United States
CATEGORIES:Public Event,Spoke Partner Event
ATTACH;FMTTYPE=image/png:https://stage.investorcatalysthub.org/wp-content/uploads/MicrobiomeEng-EventCard-1016x729-1.png
END:VEVENT
END:VCALENDAR