BEGIN:VCALENDAR
VERSION:2.0
PRODID:-//Investor Catalyst Hub - ECPv6.15.14//NONSGML v1.0//EN
CALSCALE:GREGORIAN
METHOD:PUBLISH
X-ORIGINAL-URL:https://stage.investorcatalysthub.org
X-WR-CALDESC:Events for Investor Catalyst Hub
REFRESH-INTERVAL;VALUE=DURATION:PT1H
X-Robots-Tag:noindex
X-PUBLISHED-TTL:PT1H
BEGIN:VTIMEZONE
TZID:America/New_York
BEGIN:DAYLIGHT
TZOFFSETFROM:-0500
TZOFFSETTO:-0400
TZNAME:EDT
DTSTART:20230312T070000
END:DAYLIGHT
BEGIN:STANDARD
TZOFFSETFROM:-0400
TZOFFSETTO:-0500
TZNAME:EST
DTSTART:20231105T060000
END:STANDARD
BEGIN:DAYLIGHT
TZOFFSETFROM:-0500
TZOFFSETTO:-0400
TZNAME:EDT
DTSTART:20240310T070000
END:DAYLIGHT
BEGIN:STANDARD
TZOFFSETFROM:-0400
TZOFFSETTO:-0500
TZNAME:EST
DTSTART:20241103T060000
END:STANDARD
BEGIN:DAYLIGHT
TZOFFSETFROM:-0500
TZOFFSETTO:-0400
TZNAME:EDT
DTSTART:20250309T070000
END:DAYLIGHT
BEGIN:STANDARD
TZOFFSETFROM:-0400
TZOFFSETTO:-0500
TZNAME:EST
DTSTART:20251102T060000
END:STANDARD
END:VTIMEZONE
BEGIN:VEVENT
DTSTART;TZID=America/New_York:20240605T000000
DTEND;TZID=America/New_York:20240607T235959
DTSTAMP:20260420T052552
CREATED:20240502T170802Z
LAST-MODIFIED:20240515T130958Z
UID:10000029-1717545600-1717804799@stage.investorcatalysthub.org
SUMMARY:SalivaDirect’s Third Annual Conference
DESCRIPTION:Are you looking to expand your knowledge and stay ahead of the curve in the diagnostic world? Look no further than SalivaDirect’s third Annual Conference\, being held June 5-7 at The Darcy Hotel in Washington\, D.C. This three-day event is designed to foster exciting discussions and collaborations\, providing the perfect platform to exchange ideas with some of the brightest minds in the industry. By attending\, you’ll have the opportunity to hear from members of our network and renowned leaders in the diagnostic world\, earn P.A.C.E credits\, and more! Don’t miss out on this opportunity to engage in inspiring discussions with other laboratories\, diagnostic developers\, academics\, and public health practitioners that will help push the industry forward!
URL:https://stage.investorcatalysthub.org/event/salivadirects-third-annual-conference/
LOCATION:The Darcy\, 1515 Rhode Island Avenue\, NW\, Washington\, DC\, 20005\, United States
CATEGORIES:Public Event,Spoke Partner Event
ORGANIZER;CN="SalivaDirect":MAILTO:info@salivadirect.org
END:VEVENT
END:VCALENDAR