BEGIN:VCALENDAR
VERSION:2.0
PRODID:-//Investor Catalyst Hub - ECPv6.15.14//NONSGML v1.0//EN
CALSCALE:GREGORIAN
METHOD:PUBLISH
X-WR-CALNAME:Investor Catalyst Hub
X-ORIGINAL-URL:https://stage.investorcatalysthub.org
X-WR-CALDESC:Events for Investor Catalyst Hub
REFRESH-INTERVAL;VALUE=DURATION:PT1H
X-Robots-Tag:noindex
X-PUBLISHED-TTL:PT1H
BEGIN:VTIMEZONE
TZID:America/Los_Angeles
BEGIN:DAYLIGHT
TZOFFSETFROM:-0800
TZOFFSETTO:-0700
TZNAME:PDT
DTSTART:20230312T100000
END:DAYLIGHT
BEGIN:STANDARD
TZOFFSETFROM:-0700
TZOFFSETTO:-0800
TZNAME:PST
DTSTART:20231105T090000
END:STANDARD
BEGIN:DAYLIGHT
TZOFFSETFROM:-0800
TZOFFSETTO:-0700
TZNAME:PDT
DTSTART:20240310T100000
END:DAYLIGHT
BEGIN:STANDARD
TZOFFSETFROM:-0700
TZOFFSETTO:-0800
TZNAME:PST
DTSTART:20241103T090000
END:STANDARD
BEGIN:DAYLIGHT
TZOFFSETFROM:-0800
TZOFFSETTO:-0700
TZNAME:PDT
DTSTART:20250309T100000
END:DAYLIGHT
BEGIN:STANDARD
TZOFFSETFROM:-0700
TZOFFSETTO:-0800
TZNAME:PST
DTSTART:20251102T090000
END:STANDARD
END:VTIMEZONE
BEGIN:VEVENT
DTSTART;TZID=America/Los_Angeles:20241101T000000
DTEND;TZID=America/Los_Angeles:20241103T235959
DTSTAMP:20260421T043804
CREATED:20240822T203308Z
LAST-MODIFIED:20240927T191600Z
UID:10000055-1730419200-1730678399@stage.investorcatalysthub.org
SUMMARY:RISE UP for Breast Cancer
DESCRIPTION:RISE UP (Revolutionizing Investigations to StEp Up Prevention for Breast Cancer) is a new\, interdisciplinary conference focusing on a bold reimagining of breast cancer prevention and treatment through cross-disciplinary exchange of ideas and out-of-the-box thinking. It is open to women’s health providers of all specialties\, scientists\, advocates\, policymakers\, innovators and more! By centering the whole woman and collaborating across disciplines\, we can RISE UP to the challenge of reducing breast cancer incidence and mortality in our lifetime.
URL:https://stage.investorcatalysthub.org/event/rise-for-breast-cancer/
LOCATION:San Francisco\, CA\, San Francisco\, CA\, United States
CATEGORIES:Public Event,Spoke Partner Event
ATTACH;FMTTYPE=image/png:https://stage.investorcatalysthub.org/wp-content/uploads/RiseUp-EventCard-1016x729-1.png
END:VEVENT
END:VCALENDAR